BEGIN:VCALENDAR
VERSION:2.0
PRODID:-//Salt City Lindy Hop - ECPv6.15.20//NONSGML v1.0//EN
CALSCALE:GREGORIAN
METHOD:PUBLISH
X-WR-CALNAME:Salt City Lindy Hop
X-ORIGINAL-URL:https://saltcitylindyhop.com
X-WR-CALDESC:Events for Salt City Lindy Hop
REFRESH-INTERVAL;VALUE=DURATION:PT1H
X-Robots-Tag:noindex
X-PUBLISHED-TTL:PT1H
BEGIN:VTIMEZONE
TZID:UTC
BEGIN:STANDARD
TZOFFSETFROM:+0000
TZOFFSETTO:+0000
TZNAME:UTC
DTSTART:20180101T000000
END:STANDARD
END:VTIMEZONE
BEGIN:VEVENT
DTSTART;TZID=UTC:20191214T183000
DTEND;TZID=UTC:20191214T210000
DTSTAMP:20260423T233135
CREATED:20190517T050740Z
LAST-MODIFIED:20191103T214528Z
UID:686-1576348200-1576357200@saltcitylindyhop.com
SUMMARY:Dec 14th Lindy & Toys for Tots
DESCRIPTION:Join us on Saturday from 6:30 – 9:00 PM. \nIn the McCarthy building downtown\, across from the Chase building and kiddy corner from Original Grain. The address is 217 S Salina St\, Syracuse NY 13202. \nLook for the front entrance on S Salina Street\, next door from Aloha Japanese Bento. \nWe are in the basement of the building. There is an elevator right as you walk into the lobby. \nLesson from 6:30 – 7:00 PM and social dancing from 7:00 – 9:00 PM. \n$5 for the lesson and $5 for the social dance.
URL:https://saltcitylindyhop.com/event/syracuse-swing-connection-social-dance-2-2-2-2-2-2-2-2-2-2-2-2-2-2-2/
LOCATION:The McCarthy Building\, 217 S Salina St\, Syracuse\, NY\, 13202\, United States
CATEGORIES:Social Dance
ORGANIZER;CN="Salt City Lindyhop":MAILTO:saltcitylindyhop@gmail.com
END:VEVENT
BEGIN:VEVENT
DTSTART;TZID=UTC:20191109T183000
DTEND;TZID=UTC:20191109T210000
DTSTAMP:20260423T233135
CREATED:20190517T050740Z
LAST-MODIFIED:20191103T214228Z
UID:678-1573324200-1573333200@saltcitylindyhop.com
SUMMARY:Nov 9th Lindy & The Rescue Mission - Live Band
DESCRIPTION:Join us on Saturday from 6:30 – 9:00 PM featuring Jerry Dee & The Dovetones\, a trio based out of Utica\, NY\, also our first Live Band! \nIn the McCarthy building downtown\, across from the Chase building and kiddy corner from Original Grain. The address is 217 S Salina St\, Syracuse NY 13202. \nLook for the front entrance on S Salina Street\, next door from Aloha Japanese Bento. \nWe are in the basement of the building. There is an elevator right as you walk into the lobby. \nLesson from 6:30 – 7:00 PM and social dancing from 7:00 – 9:00 PM. \n$5 for the lesson and $10 for the social dance.
URL:https://saltcitylindyhop.com/event/syracuse-swing-connection-social-dance-2-2-2-2-2-2-2-2-2-2-2-2-2/
LOCATION:The McCarthy Building\, 217 S Salina St\, Syracuse\, NY\, 13202\, United States
CATEGORIES:Social Dance
ORGANIZER;CN="Salt City Lindyhop":MAILTO:saltcitylindyhop@gmail.com
END:VEVENT
BEGIN:VEVENT
DTSTART;TZID=UTC:20190831T140000
DTEND;TZID=UTC:20190831T180000
DTSTAMP:20260423T233135
CREATED:20190517T050740Z
LAST-MODIFIED:20190518T023511Z
UID:296-1567260000-1567274400@saltcitylindyhop.com
SUMMARY:Swinging Through Summer
DESCRIPTION:Weekly outdoor summer dance in Hanover square from 2-6 pm.  Beginner lesson from 2-2:45 pm\, social dancing from 2:45-6 pm.  A mix of Eastcoast/Jitterbug\, Lindyhop\, Blues\, Balboa and Shag.  Only $5 for the lesson and dance.
URL:https://saltcitylindyhop.com/event/syracuse-swing-connection-social-dance-2-2-2-2-2-2-2-2-2-2-2-2/
LOCATION:Hanover Square\, E Water St\, Syracuse\, NY\, 13204\, United States
CATEGORIES:Social Dance
ORGANIZER;CN="Salt City Lindyhop":MAILTO:saltcitylindyhop@gmail.com
END:VEVENT
BEGIN:VEVENT
DTSTART;TZID=UTC:20190824T140000
DTEND;TZID=UTC:20190824T180000
DTSTAMP:20260423T233135
CREATED:20190517T050740Z
LAST-MODIFIED:20190518T023439Z
UID:294-1566655200-1566669600@saltcitylindyhop.com
SUMMARY:Swinging Through Summer
DESCRIPTION:Weekly outdoor summer dance in Hanover square from 2-6 pm.  Beginner lesson from 2-2:45 pm\, social dancing from 2:45-6 pm.  A mix of Eastcoast/Jitterbug\, Lindyhop\, Blues\, Balboa and Shag.  Only $5 for the lesson and dance.
URL:https://saltcitylindyhop.com/event/syracuse-swing-connection-social-dance-2-2-2-2-2-2-2-2-2-2-2/
LOCATION:Hanover Square\, E Water St\, Syracuse\, NY\, 13204\, United States
CATEGORIES:Social Dance
ORGANIZER;CN="Salt City Lindyhop":MAILTO:saltcitylindyhop@gmail.com
END:VEVENT
BEGIN:VEVENT
DTSTART;TZID=UTC:20190817T140000
DTEND;TZID=UTC:20190817T180000
DTSTAMP:20260423T233135
CREATED:20190517T050740Z
LAST-MODIFIED:20190518T023409Z
UID:292-1566050400-1566064800@saltcitylindyhop.com
SUMMARY:Swinging Through Summer
DESCRIPTION:Weekly outdoor summer dance in Hanover square from 2-6 pm.  Beginner lesson from 2-2:45 pm\, social dancing from 2:45-6 pm.  A mix of Eastcoast/Jitterbug\, Lindyhop\, Blues\, Balboa and Shag.  Only $5 for the lesson and dance.
URL:https://saltcitylindyhop.com/event/syracuse-swing-connection-social-dance-2-2-2-2-2-2-2-2-2-2/
LOCATION:Hanover Square\, E Water St\, Syracuse\, NY\, 13204\, United States
CATEGORIES:Social Dance
ORGANIZER;CN="Salt City Lindyhop":MAILTO:saltcitylindyhop@gmail.com
END:VEVENT
BEGIN:VEVENT
DTSTART;TZID=UTC:20190810T140000
DTEND;TZID=UTC:20190810T180000
DTSTAMP:20260423T233135
CREATED:20190517T050740Z
LAST-MODIFIED:20190518T023344Z
UID:290-1565445600-1565460000@saltcitylindyhop.com
SUMMARY:Swinging Through Summer
DESCRIPTION:Weekly outdoor summer dance in Hanover square from 2-6 pm.  Beginner lesson from 2-2:45 pm\, social dancing from 2:45-6 pm.  A mix of Eastcoast/Jitterbug\, Lindyhop\, Blues\, Balboa and Shag.  Only $5 for the lesson and dance.
URL:https://saltcitylindyhop.com/event/syracuse-swing-connection-social-dance-2-2-2-2-2-2-2-2-2/
LOCATION:Hanover Square\, E Water St\, Syracuse\, NY\, 13204\, United States
CATEGORIES:Social Dance
ORGANIZER;CN="Salt City Lindyhop":MAILTO:saltcitylindyhop@gmail.com
END:VEVENT
BEGIN:VEVENT
DTSTART;TZID=UTC:20190803T140000
DTEND;TZID=UTC:20190803T180000
DTSTAMP:20260423T233135
CREATED:20190517T050740Z
LAST-MODIFIED:20190518T023154Z
UID:288-1564840800-1564855200@saltcitylindyhop.com
SUMMARY:Swinging Through Summer
DESCRIPTION:Weekly outdoor summer dance in Hanover square from 2-6 pm.  Beginner lesson from 2-2:45 pm\, social dancing from 2:45-6 pm.  A mix of Eastcoast/Jitterbug\, Lindyhop\, Blues\, Balboa and Shag.  Only $5 for the lesson and dance.
URL:https://saltcitylindyhop.com/event/syracuse-swing-connection-social-dance-2-2-2-2-2-2-2-2/
LOCATION:Hanover Square\, E Water St\, Syracuse\, NY\, 13204\, United States
CATEGORIES:Social Dance
ORGANIZER;CN="Salt City Lindyhop":MAILTO:saltcitylindyhop@gmail.com
END:VEVENT
BEGIN:VEVENT
DTSTART;TZID=UTC:20190727T170000
DTEND;TZID=UTC:20190727T210000
DTSTAMP:20260423T233135
CREATED:20190517T050740Z
LAST-MODIFIED:20190726T021710Z
UID:286-1564246800-1564261200@saltcitylindyhop.com
SUMMARY:Swinging Through Summer
DESCRIPTION:We will be a part of The Arts Week Festival event this week.\nFrom 1:00 – 3:00 PM we will be in the Clinton Square area giving lessons and dancing for FREE.\nThen from 5:00 – 9:00 PM we will be in Hanover square doing the same thing. \nIf you have been considering trying swing dancing this is the perfect event to give it a try.
URL:https://saltcitylindyhop.com/event/syracuse-swing-connection-social-dance-2-2-2-2-2-2-2/
LOCATION:Hanover Square\, E Water St\, Syracuse\, NY\, 13204\, United States
CATEGORIES:Social Dance
ORGANIZER;CN="Salt City Lindyhop":MAILTO:saltcitylindyhop@gmail.com
END:VEVENT
BEGIN:VEVENT
DTSTART;TZID=UTC:20190720T140000
DTEND;TZID=UTC:20190720T180000
DTSTAMP:20260423T233135
CREATED:20190517T050740Z
LAST-MODIFIED:20190518T023055Z
UID:284-1563631200-1563645600@saltcitylindyhop.com
SUMMARY:Swinging Through Summer
DESCRIPTION:Weekly outdoor summer dance in Hanover square from 2-6 pm.  Beginner lesson from 2-2:45 pm\, social dancing from 2:45-6 pm.  A mix of Eastcoast/Jitterbug\, Lindyhop\, Blues\, Balboa and Shag.  Only $5 for the lesson and dance.
URL:https://saltcitylindyhop.com/event/syracuse-swing-connection-social-dance-2-2-2-2-2-2/
LOCATION:Hanover Square\, E Water St\, Syracuse\, NY\, 13204\, United States
CATEGORIES:Social Dance
ORGANIZER;CN="Salt City Lindyhop":MAILTO:saltcitylindyhop@gmail.com
END:VEVENT
BEGIN:VEVENT
DTSTART;TZID=UTC:20190713T140000
DTEND;TZID=UTC:20190713T180000
DTSTAMP:20260423T233135
CREATED:20190517T050740Z
LAST-MODIFIED:20190518T023012Z
UID:282-1563026400-1563040800@saltcitylindyhop.com
SUMMARY:Swinging Through Summer
DESCRIPTION:Weekly outdoor summer dance in Hanover square from 2-6 pm.  Beginner lesson from 2-2:45 pm\, social dancing from 2:45-6 pm.  A mix of Eastcoast/Jitterbug\, Lindyhop\, Blues\, Balboa and Shag.  Only $5 for the lesson and dance.
URL:https://saltcitylindyhop.com/event/syracuse-swing-connection-social-dance-2-2-2-2-2/
LOCATION:Hanover Square\, E Water St\, Syracuse\, NY\, 13204\, United States
CATEGORIES:Social Dance
ORGANIZER;CN="Salt City Lindyhop":MAILTO:saltcitylindyhop@gmail.com
END:VEVENT
BEGIN:VEVENT
DTSTART;TZID=UTC:20190706T140000
DTEND;TZID=UTC:20190706T180000
DTSTAMP:20260423T233135
CREATED:20190517T050740Z
LAST-MODIFIED:20190518T022930Z
UID:280-1562421600-1562436000@saltcitylindyhop.com
SUMMARY:Swinging Through Summer
DESCRIPTION:Weekly outdoor summer dance in Hanover square from 2-6 pm.  Beginner lesson from 2-2:45 pm\, social dancing from 2:45-6 pm.  A mix of Eastcoast/Jitterbug\, Lindyhop\, Blues\, Balboa and Shag.  Only $5 for the lesson and dance.
URL:https://saltcitylindyhop.com/event/syracuse-swing-connection-social-dance-2-2-2-2/
LOCATION:Hanover Square\, E Water St\, Syracuse\, NY\, 13204\, United States
CATEGORIES:Social Dance
ORGANIZER;CN="Salt City Lindyhop":MAILTO:saltcitylindyhop@gmail.com
END:VEVENT
BEGIN:VEVENT
DTSTART;TZID=UTC:20190629T140000
DTEND;TZID=UTC:20190629T180000
DTSTAMP:20260423T233135
CREATED:20190517T050740Z
LAST-MODIFIED:20190518T022904Z
UID:278-1561816800-1561831200@saltcitylindyhop.com
SUMMARY:Swinging Through Summer
DESCRIPTION:Weekly outdoor summer dance in Hanover square from 2-6 pm.  Beginner lesson from 2-2:45 pm\, social dancing from 2:45-6 pm.  A mix of Eastcoast/Jitterbug\, Lindyhop\, Blues\, Balboa and Shag.  Only $5 for the lesson and dance.
URL:https://saltcitylindyhop.com/event/syracuse-swing-connection-social-dance-2-2-2/
LOCATION:Hanover Square\, E Water St\, Syracuse\, NY\, 13204\, United States
CATEGORIES:Social Dance
ORGANIZER;CN="Salt City Lindyhop":MAILTO:saltcitylindyhop@gmail.com
END:VEVENT
BEGIN:VEVENT
DTSTART;TZID=UTC:20190622T140000
DTEND;TZID=UTC:20190622T180000
DTSTAMP:20260423T233135
CREATED:20190517T050740Z
LAST-MODIFIED:20190518T022813Z
UID:276-1561212000-1561226400@saltcitylindyhop.com
SUMMARY:Swinging Through Summer
DESCRIPTION:Weekly outdoor summer dance in Hanover square from 2-6 pm.  Beginner lesson from 2-2:45 pm\, social dancing from 2:45-6 pm.  A mix of Eastcoast/Jitterbug\, Lindyhop\, Blues\, Balboa and Shag.  Only $5 for the lesson and dance.
URL:https://saltcitylindyhop.com/event/syracuse-swing-connection-social-dance-2-2/
LOCATION:Hanover Square\, E Water St\, Syracuse\, NY\, 13204\, United States
CATEGORIES:Social Dance
ORGANIZER;CN="Salt City Lindyhop":MAILTO:saltcitylindyhop@gmail.com
END:VEVENT
BEGIN:VEVENT
DTSTART;TZID=UTC:20190615T140000
DTEND;TZID=UTC:20190615T180000
DTSTAMP:20260423T233135
CREATED:20190517T050740Z
LAST-MODIFIED:20190518T022836Z
UID:274-1560607200-1560621600@saltcitylindyhop.com
SUMMARY:Swinging Through Summer
DESCRIPTION:Weekly outdoor summer dance in Hanover square from 2-6 pm.  Beginner lesson from 2-2:45 pm\, social dancing from 2:45-6 pm.  A mix of Eastcoast/Jitterbug\, Lindyhop\, Blues\, Balboa and Shag.  Only $5 for the lesson and dance.
URL:https://saltcitylindyhop.com/event/syracuse-swing-connection-social-dance-2/
LOCATION:Hanover Square\, E Water St\, Syracuse\, NY\, 13204\, United States
CATEGORIES:Social Dance
ORGANIZER;CN="Salt City Lindyhop":MAILTO:saltcitylindyhop@gmail.com
END:VEVENT
BEGIN:VEVENT
DTSTART;TZID=UTC:20190520T190000
DTEND;TZID=UTC:20190520T213000
DTSTAMP:20260423T233135
CREATED:20190517T050740Z
LAST-MODIFIED:20190517T050740Z
UID:270-1558378800-1558387800@saltcitylindyhop.com
SUMMARY:Syracuse Swing Connection Social Dance
DESCRIPTION:Join us this Monday\, 5/20\, for our LAST Monday dance of the season! \n7:00 – 9:30 at the Syracuse Ukrainian National Home \n\nWe’ll be picking back up in June for our summer series: Swinging Through the Summer – on Saturday\, June 15
URL:https://saltcitylindyhop.com/event/syracuse-swing-connection-social-dance/
LOCATION:Ukrainian National Home\, 1317 W Fayette St\, Syracuse\, NY\, 13204\, United States
CATEGORIES:Social Dance
ORGANIZER;CN="Salt City Lindyhop":MAILTO:saltcitylindyhop@gmail.com
END:VEVENT
END:VCALENDAR