BEGIN:VCALENDAR
VERSION:2.0
PRODID:-//Salt City Lindy Hop - ECPv6.15.20//NONSGML v1.0//EN
CALSCALE:GREGORIAN
METHOD:PUBLISH
X-WR-CALNAME:Salt City Lindy Hop
X-ORIGINAL-URL:https://saltcitylindyhop.com
X-WR-CALDESC:Events for Salt City Lindy Hop
REFRESH-INTERVAL;VALUE=DURATION:PT1H
X-Robots-Tag:noindex
X-PUBLISHED-TTL:PT1H
BEGIN:VTIMEZONE
TZID:UTC
BEGIN:STANDARD
TZOFFSETFROM:+0000
TZOFFSETTO:+0000
TZNAME:UTC
DTSTART:20230101T000000
END:STANDARD
END:VTIMEZONE
BEGIN:VEVENT
DTSTART;TZID=UTC:20240130T180000
DTEND;TZID=UTC:20240130T210000
DTSTAMP:20260423T213951
CREATED:20240105T184418Z
LAST-MODIFIED:20240105T184418Z
UID:735-1706637600-1706648400@saltcitylindyhop.com
SUMMARY:Free weekly social dance
DESCRIPTION:
URL:https://saltcitylindyhop.com/event/free-weekly-social-dance-4/
LOCATION:Board & Bar Charcuterie\, 208 W Water St.\, Syracuse\, NY\, 13202\, United States
CATEGORIES:Social Dance,Weekday Dance
ORGANIZER;CN="Salt City Lindyhop":MAILTO:saltcitylindyhop@gmail.com
END:VEVENT
BEGIN:VEVENT
DTSTART;TZID=UTC:20240123T180000
DTEND;TZID=UTC:20240123T210000
DTSTAMP:20260423T213951
CREATED:20240105T184319Z
LAST-MODIFIED:20240105T184319Z
UID:733-1706032800-1706043600@saltcitylindyhop.com
SUMMARY:Free weekly social dance
DESCRIPTION:
URL:https://saltcitylindyhop.com/event/free-weekly-social-dance-3/
LOCATION:Board & Bar Charcuterie\, 208 W Water St.\, Syracuse\, NY\, 13202\, United States
CATEGORIES:Social Dance,Weekday Dance
ORGANIZER;CN="Salt City Lindyhop":MAILTO:saltcitylindyhop@gmail.com
END:VEVENT
BEGIN:VEVENT
DTSTART;TZID=UTC:20240116T180000
DTEND;TZID=UTC:20240116T210000
DTSTAMP:20260423T213951
CREATED:20240105T184100Z
LAST-MODIFIED:20240105T184100Z
UID:729-1705428000-1705438800@saltcitylindyhop.com
SUMMARY:Free weekly social dance
DESCRIPTION:
URL:https://saltcitylindyhop.com/event/free-weekly-social-dance-2/
LOCATION:Board & Bar Charcuterie\, 208 W Water St.\, Syracuse\, NY\, 13202\, United States
CATEGORIES:Social Dance,Weekday Dance
ORGANIZER;CN="Salt City Lindyhop":MAILTO:saltcitylindyhop@gmail.com
END:VEVENT
BEGIN:VEVENT
DTSTART;TZID=UTC:20240109T180000
DTEND;TZID=UTC:20240109T200000
DTSTAMP:20260423T213951
CREATED:20240105T183601Z
LAST-MODIFIED:20240105T183728Z
UID:724-1704823200-1704830400@saltcitylindyhop.com
SUMMARY:Free Weekly Social Dance
DESCRIPTION:
URL:https://saltcitylindyhop.com/event/free-weekly-social-dance/
LOCATION:Board & Bar Charcuterie\, 208 W Water St.\, Syracuse\, NY\, 13202\, United States
CATEGORIES:Weekday Dance
ORGANIZER;CN="Salt City Lindyhop":MAILTO:saltcitylindyhop@gmail.com
END:VEVENT
END:VCALENDAR